BEGIN:VCALENDAR
PRODID:NingEventWidget-v1
VERSION:2.0
METHOD:PUBLISH
BEGIN:VTIMEZONE
TZID:America/Anguilla
X-LIC-LOCATION:America/Anguilla
BEGIN:STANDARD
TZOFFSETFROM:-0400
TZOFFSETTO:-0400
TZNAME:AST
DTSTART:19700101T000000
END:STANDARD
END:VTIMEZONE
BEGIN:VEVENT
UID:4134568:Event:95910
DTSTAMP:20260424T022024Z
SUMMARY:Art of Hosting in Education, 2015, Lithuania
DESCRIPTION: Art of Hosting in Education is an international 5 day tr
 aining program for all education stakeholders who are passionate about
  the future of education and who want to together explore how to creat
 e a better learning and collaboration culture in our schools, communit
 ies and organizations.\nThe purpose of this event is to build and stre
 ngthen relationships between all education stakeholders (school leader
 s and teachers, representatives of government agencies, university lea
 ders and staff, students, educational consultants, non-governmental or
 ganizations, business representatives and politicians) and empower the
 ir network to act together using participatory practices.\n\nFor more 
 information visit https://artofhosting.ning.com/events/art-of-hosting-
 in-education-2015-lithuania
DTSTART;TZID=America/Anguilla:20150217T170000
DTEND;TZID=America/Anguilla:20150221T160000
CATEGORIES:aoh, in, education
LOCATION:Lithuania
WEBSITE:http://www.aoh-education.org/february-event-2015/
URL:http://www.aoh-education.org/february-event-2015/
CONTACT:+37061464790
ORGANIZER:\"Co-Creating Communities\", contact Aurimas Razanauskas
ATTACH;FMTTYPE="image/jpeg":
END:VEVENT
END:VCALENDAR
